BEGIN:VCALENDAR
VERSION:2.0
PRODID:-//eventon.com NONSGML v1.0//EN
CALSCALE:GREGORIAN
METHOD:PUBLISH
BEGIN:VEVENT
UID:69eb6c6d3faa3
DTSTAMP:20260424T091317
DTSTART:20260426T140000Z
DTEND:20260426T113000Z
TZID:America/New_York
LOCATION:
SUMMARY:Uncle Joe & Fiddlin' Renee Performance
DESCRIPTION:\nhttps://threebearsovid.org/events/uncle-joe-fiddlin-renee-performance/
URL:https://threebearsovid.org/events/uncle-joe-fiddlin-renee-performance/
END:VEVENT
END:VCALENDAR